BEGIN:VCALENDAR
VERSION:2.0
PRODID:-//Acme Widgets\, Inc.//NONSGML ExportToCalendar//EN
CALSCALE:GREGORIAN
METHOD:PUBLISH
X-WR-CALNAME:Groupmuses near 
X-WR-NAME:Groupmuses near 
BEGIN:VEVENT
DTSTAMP:20260423T193527Z
UID:450c11c5-d359-4a4b-8df0-485d32b8bff3
DTSTART:20260509T220000Z
DTEND:20260510T003000Z
DESCRIPTION:Hosted by Roshan S.\nMusicians: Philippe Clement\n\nGet ready f
 or a sensory takeover! We’re transforming our little community garden in
 to a living stage for a powerhouse performance by the Philippe Clement Ens
 emble. \n\nPhilippe Clement and his crew are masters of their craft\, know
 n for pushing boundaries and creating massive soundscapes that feel both i
 ntimate and cinematic. Whether you’re a die-hard fan or just looking for
  a legendary night under the stars\, this is the event that will be the ta
 lk of the season! Hope to see you there!
LOCATION:Greenpoint
SUMMARY:Guitar in the Community Garden w/ the Phillipe Clement Ensemble 
 🎸🥁 🎻 
URL:https://www.groupmuse.com/events/16312-guitar-in-the-community-garden-w
 -the-phillipe-clement-ensemble
END:VEVENT
END:VCALENDAR
