BEGIN:VCALENDAR
VERSION:2.0
PRODID:-//Acme Widgets\, Inc.//NONSGML ExportToCalendar//EN
CALSCALE:GREGORIAN
METHOD:PUBLISH
X-WR-CALNAME:Groupmuses near 
X-WR-NAME:Groupmuses near 
BEGIN:VEVENT
DTSTAMP:20260422T224652Z
UID:7edf53e3-21a7-43d1-9742-dcf85e718280
DTSTART:20260517T233000Z
DTEND:20260518T020000Z
DESCRIPTION:Hosted by David Z.\nMusicians: Hannah White\n\nTBD
LOCATION:Tarzana\, Los Angeles
SUMMARY:Hannah White back in Tarzana!
URL:https://www.groupmuse.com/events/16365-hannah-white-back-in-tarzana
END:VEVENT
END:VCALENDAR
