BEGIN:VCALENDAR
VERSION:2.0
PRODID:-//Acme Widgets\, Inc.//NONSGML ExportToCalendar//EN
CALSCALE:GREGORIAN
METHOD:PUBLISH
X-WR-CALNAME:Groupmuses near 
X-WR-NAME:Groupmuses near 
BEGIN:VEVENT
DTSTAMP:20260423T231440Z
UID:d9fb920f-fbb0-475f-9457-1a2b30307627
DTSTART:20260607T010000Z
DTEND:20260607T033000Z
DESCRIPTION:Hosted by Jazzy C.\nMusicians: Srishti Biyani\n\nJoin us for an
  intimate evening of Hindustani Ragas played on the Bansuri (bamboo flute)
  in our warm\, bohemian style wellness space. \n\nHosted at Crick’s Chir
 opractic & Acupuncture\, seating will be a mix of couches\, chairs\, pillo
 ws\, poufs\, and persian carpet. \n\n🫖 Tea\, Wine 🍷 \, and snacks wi
 ll be served\, and you’re welcome to stay after to connect and unwind.\n
 \n✨🚪 Doors open at 6pm\, performance begins at 6:30pm 🎶 \n\nFree p
 arking\, ground floor\, wheelchair accessible \n\nKids are welcome ❤️
LOCATION:San ramon\, San Ramon
SUMMARY:A Soothing Evening of Hindustani Ragas in a Bohemian Wellness Space
URL:https://www.groupmuse.com/events/16515-a-soothing-evening-of-hindustani
 -ragas-in-a-bohemian-wellness-space
END:VEVENT
END:VCALENDAR
