BEGIN:VCALENDAR
VERSION:2.0
PRODID:-//Acme Widgets\, Inc.//NONSGML ExportToCalendar//EN
CALSCALE:GREGORIAN
METHOD:PUBLISH
X-WR-CALNAME:Groupmuses near 
X-WR-NAME:Groupmuses near 
BEGIN:VEVENT
DTSTAMP:20260423T171121Z
UID:9dfefd58-30a8-4563-9d97-9a4fe7c6273e
DTSTART:20260516T214500Z
DTEND:20260517T001500Z
DESCRIPTION:Hosted by Sharon Y.\nMusicians: Sharon Yung\n\nHope you all are
  having a wonderful Spring time! I am so excited to be hosting this GroupM
 use Concert\, 'Music from Mozart\, Beethoven & Schubert’ in collaboratio
 n with the Community Week NYC\, at a cozy local cafe in Park Slope that su
 pports Art and Music!\nA selection of light refreshments and cocktails is 
 available before the concert and during intermission. Your Groupmuse ticke
 t will include a $5 coupon toward food and drink purchases.\nI would love 
 to see you there. Make sure to reserve a spot!\nBest\,\nSharon\n
LOCATION:Park Slope
SUMMARY:Evening Music from Mozart\,Beethoven&Schubert
URL:https://www.groupmuse.com/events/16568-evening-music-from-mozart-beetho
 ven-schubert
END:VEVENT
END:VCALENDAR
