BEGIN:VCALENDAR
VERSION:2.0
PRODID:-//Acme Widgets\, Inc.//NONSGML ExportToCalendar//EN
CALSCALE:GREGORIAN
METHOD:PUBLISH
X-WR-CALNAME:Groupmuses near 
X-WR-NAME:Groupmuses near 
BEGIN:VEVENT
DTSTAMP:20260422T004929Z
UID:c9d4bc5c-3e31-4dcb-8adf-36b88cf32cc3
DTSTART:20260612T233000Z
DTEND:20260613T020000Z
DESCRIPTION:Hosted by Amy G.\nMusicians: David Adewumi and Isaac Levien\n\n
 Join us for an evening of music for trumpet and bass and cocktails/mocktai
 ls!\n\n🎟️ Doors open at 7:30pm\n🎶 Show starts at 8:00pm\n🥃 Cock
 tails & mocktails available for purchase at this groupmuse. Please support
  local business by getting at least 1 drink at the bar!\n\n🎺 About **[D
 ave Adwumi](https://daveadewumimusic.com/)**:\n\n🎸 About **[Isaac Levie
 n](http://isaaclevien.com/)**:
LOCATION:Sunset Park
SUMMARY:Tiny Distillery Concerts: Dave Adewumi & Isaac Levien
URL:https://www.groupmuse.com/events/16571-tiny-distillery-concerts-dave-ad
 ewumi-isaac-levien
END:VEVENT
END:VCALENDAR
