BEGIN:VCALENDAR
VERSION:2.0
PRODID:-//Acme Widgets\, Inc.//NONSGML ExportToCalendar//EN
CALSCALE:GREGORIAN
METHOD:PUBLISH
X-WR-CALNAME:Groupmuses near 
X-WR-NAME:Groupmuses near 
BEGIN:VEVENT
DTSTAMP:20260422T010543Z
UID:6de757b4-db75-470c-9e6f-0306c54e0260
DTSTART:20260710T233000Z
DTEND:20260711T020000Z
DESCRIPTION:Hosted by Amy G.\nMusicians: Hillary Bonhomme\n\nJoin us for an
  evening of original music by Hillary Bonhomme and cocktails/mocktails!\n\
 n🎟️ Doors open at 7:30pm\n🎶 Show starts at 8:00pm\n🥃 Cocktails 
 & mocktails available for purchase at this groupmuse. Please support local
  business by getting at least 1 drink at the bar!\n\n🎤 About **[Hillary
  Bonhomme](https://www.hillarybonhom.me/)**:
LOCATION:Sunset Park
SUMMARY:Tiny Distillery Concerts: Hillary Bonhomme
URL:https://www.groupmuse.com/events/16572-tiny-distillery-concerts-hillary
 -bonhomme
END:VEVENT
END:VCALENDAR
