BEGIN:VCALENDAR
VERSION:2.0
PRODID:-//Acme Widgets\, Inc.//NONSGML ExportToCalendar//EN
CALSCALE:GREGORIAN
METHOD:PUBLISH
X-WR-CALNAME:Groupmuses near 
X-WR-NAME:Groupmuses near 
BEGIN:VEVENT
DTSTAMP:20260422T011139Z
UID:d7017ea3-2c9a-40ff-b98f-756d2432b8b1
DTSTART:20260814T233000Z
DTEND:20260815T020000Z
DESCRIPTION:Hosted by Amy G.\nMusicians: Jared Beckstead-Craan\n\nJoin us f
 or an evening of music for jazz trio and cocktails/mocktails!\n\n🎟️ D
 oors open at 7:30pm\n🎶 Show starts at 8:00pm\n🥃 Cocktails & mocktail
 s available for purchase at this groupmuse. Please support local business 
 by getting at least 1 drink at the bar!
LOCATION:Sunset Park
SUMMARY:Tiny Distillery Concerts: Jared Beckstead-Craan
URL:https://www.groupmuse.com/events/16573-tiny-distillery-concerts-jared-b
 eckstead-craan
END:VEVENT
END:VCALENDAR
