BEGIN:VCALENDAR
VERSION:2.0
PRODID:-//Acme Widgets\, Inc.//NONSGML ExportToCalendar//EN
CALSCALE:GREGORIAN
METHOD:PUBLISH
X-WR-CALNAME:Groupmuses near 
X-WR-NAME:Groupmuses near 
BEGIN:VEVENT
DTSTAMP:20260421T120340Z
UID:9db01926-f58c-4252-8424-f63da339592d
DTSTART:20260424T023000Z
DTEND:20260424T050000Z
DESCRIPTION:Hosted by Philharmonia Baroque O.\nMusicians: Shunske Sato\n\nT
 racing the edges of Classical form — where elegance meets eccentricity 
 — this vibrant program brings together four composers who delighted in s
 urprise\, contrast\, and invention. Led by the electrifying **violinist Sh
 unske Sato**\, this season finale invites you to hear familiar names with 
 fresh ears\, all performed on period instruments for a sound world closer 
 to what the composers themselves imagined.\n\nThe journey begins with **Ca
 rl Philipp Emanuel Bach**’s *Symphony in F major* — full of sudden tur
 ns\, restless energy\, and the kind of “kinks” that fascinated audienc
 es and shaped the future of music. From there\, **Wolfgang Amadeus Mozart*
 *’s *Thamos\, King of Egypt* adds theatrical intrigue\, offering a rarel
 y heard glimpse into Mozart’s dramatic side beyond the opera stage.\nA y
 oung prodigy steps forward in **Felix Mendelssohn**’s *Violin Concerto i
 n D minor* — written at just 13\, yet already brimming with intensity\, 
 lyricism\, and brilliance. The program culminates in **Ludwig van Beethove
 n**’s *Symphony No. 1 in C major* — bold\, witty\, and just a little s
 ubversive\, marking the beginning of a journey that would reshape the symp
 hony forever.\nWith gut strings\, classical bows\, and historical winds\, 
 every “quirk” lands with clarity and character — playful\, dramatic\
 , and alive.
LOCATION:Herbst Theatre
SUMMARY:Philharmonia Baroque Orchestra Presents: Kinks and Quirks
URL:https://www.groupmuse.com/events/16582-philharmonia-baroque-orchestra-p
 resents-kinks-and-quirks
END:VEVENT
END:VCALENDAR
