BEGIN:VCALENDAR
VERSION:2.0
PRODID:-//Acme Widgets\, Inc.//NONSGML ExportToCalendar//EN
CALSCALE:GREGORIAN
METHOD:PUBLISH
X-WR-CALNAME:Groupmuses near 
X-WR-NAME:Groupmuses near 
BEGIN:VEVENT
DTSTAMP:20260422T224652Z
UID:a2b6d69e-5120-4984-bc48-5f13cc8dcd71
DTSTART:20260430T220000Z
DTEND:20260501T003000Z
DESCRIPTION:Hosted by Katherine M.\nMusicians: Katherine Miller and Octavio
  Deluchi\n\nWe are so excited to welcome guitarist Octavio Deluchi and Con
 current duo (piano and percussion) for our third installment of Aperitono 
 at Rewind NYC! Please support local business and participate in the 2 item
  minimum from our friends at Rewind :)
LOCATION:Long Island City
SUMMARY:Aperitono: Octavio Deluchi and Concurrent Duo
URL:https://www.groupmuse.com/events/16586-aperitono-octavio-deluchi-and-co
 ncurrent-duo
END:VEVENT
END:VCALENDAR
