BEGIN:VCALENDAR
VERSION:2.0
PRODID:-//Acme Widgets\, Inc.//NONSGML ExportToCalendar//EN
CALSCALE:GREGORIAN
METHOD:PUBLISH
X-WR-CALNAME:Groupmuses near 
X-WR-NAME:Groupmuses near 
BEGIN:VEVENT
DTSTAMP:20260423T152720Z
UID:f636047a-d7bd-480b-bed8-d850e8606e4d
DTSTART:20160821T230000Z
DTEND:20160822T013000Z
DESCRIPTION:Hosted by Jon L.\nMusicians: \n\nMy place is a 5 minute walk fr
 om the 24th and Mission BART Stop. Parking is scarce in my neighborhood\, 
 but you can try your luck!
LOCATION:Mission District\, San Francisco
SUMMARY:Mission Chamber: Mozart and Mendelssohn Piano Trios
URL:https://www.groupmuse.com/events/3988-mission-chamber-mozart-and-mendel
 ssohn-piano-trios
END:VEVENT
END:VCALENDAR
